BEGIN:VCALENDAR
VERSION:2.0
PRODID:-//wp-events-plugin.com//7.1.7//EN
TZID:Europe/Paris
X-WR-TIMEZONE:Europe/Paris
BEGIN:VEVENT
UID:0-441@ville-thonon.fr
DTSTART;VALUE=DATE:20240301
DTEND;VALUE=DATE:20240401
DTSTAMP:20240312T130224Z
URL:https://www.ville-thonon.fr/evenements/seniors-les-animations-de-mars-
 2024/
SUMMARY:Seniors : les animations de mars 2024
DESCRIPTION:Plus d'infos auprès d'ATOUT SENIORS : 04 50 71 18 56.
ATTACH;FMTTYPE=image/jpeg:https://www.ville-thonon.fr/app/uploads/2024/03/
 11038_200_Seniors-2024.jpg
END:VEVENT
BEGIN:VEVENT
UID:0-441@ville-thonon.fr
DTSTART;VALUE=DATE:20240301
DTEND;VALUE=DATE:20240401
DTSTAMP:20240312T130224Z
URL:https://www.ville-thonon.fr/evenements/seniors-les-animations-de-mars-
 2024/
SUMMARY:Seniors : les animations de mars 2024
DESCRIPTION:\n\n\nPlus d'infos auprès d'ATOUT SENIORS : 04 50 71 18 56.\n
ATTACH;FMTTYPE=image/jpeg:https://www.ville-thonon.fr/app/uploads/2024/03/
 11038_200_Seniors-2024.jpg
END:VEVENT
BEGIN:VEVENT
UID:0-441@ville-thonon.fr
DTSTART;VALUE=DATE:20240301
DTEND;VALUE=DATE:20240401
DTSTAMP:20240312T130224Z
URL:https://www.ville-thonon.fr/evenements/seniors-les-animations-de-mars-
 2024/
SUMMARY:Seniors : les animations de mars 2024
DESCRIPTION:\n\n\nPlus d'infos auprès d'ATOUT SENIORS : 04 50 71 18 56.\n
ATTACH;FMTTYPE=image/jpeg:https://www.ville-thonon.fr/app/uploads/2024/03/
 11038_200_Seniors-2024.jpg
END:VEVENT
BEGIN:VEVENT
UID:0-441@ville-thonon.fr
DTSTART;VALUE=DATE:20240301
DTEND;VALUE=DATE:20240401
DTSTAMP:20240312T130224Z
URL:https://www.ville-thonon.fr/evenements/seniors-les-animations-de-mars-
 2024/
SUMMARY:Seniors : les animations de mars 2024
DESCRIPTION:\n\n\nPlus d'infos auprès d'ATOUT SENIORS : 04 50 71 18 56.\n
ATTACH;FMTTYPE=image/jpeg:https://www.ville-thonon.fr/app/uploads/2024/03/
 11038_200_Seniors-2024.jpg
END:VEVENT
BEGIN:VEVENT
UID:0-441@ville-thonon.fr
DTSTART;VALUE=DATE:20240301
DTEND;VALUE=DATE:20240401
DTSTAMP:20240312T130224Z
URL:https://www.ville-thonon.fr/evenements/seniors-les-animations-de-mars-
 2024/
SUMMARY:Seniors : les animations de mars 2024
DESCRIPTION:\n\n\nPlus d'infos auprès d'ATOUT SENIORS : 04 50 71 18 56.\n
ATTACH;FMTTYPE=image/jpeg:https://www.ville-thonon.fr/app/uploads/2024/03/
 11038_200_Seniors-2024.jpg
END:VEVENT
BEGIN:VEVENT
UID:0-441@ville-thonon.fr
DTSTART;VALUE=DATE:20240301
DTEND;VALUE=DATE:20240401
DTSTAMP:20240312T130224Z
URL:https://www.ville-thonon.fr/evenements/seniors-les-animations-de-mars-
 2024/
SUMMARY:Seniors : les animations de mars 2024
DESCRIPTION:\n\n\nPlus d'infos auprès d'ATOUT SENIORS : 04 50 71 18 56.\n
ATTACH;FMTTYPE=image/jpeg:https://www.ville-thonon.fr/app/uploads/2024/03/
 11038_200_Seniors-2024.jpg
END:VEVENT
BEGIN:VEVENT
UID:0-441@ville-thonon.fr
DTSTART;VALUE=DATE:20240301
DTEND;VALUE=DATE:20240401
DTSTAMP:20240312T130224Z
URL:https://www.ville-thonon.fr/evenements/seniors-les-animations-de-mars-
 2024/
SUMMARY:Seniors : les animations de mars 2024
DESCRIPTION:\n\n\nPlus d'infos auprès d'ATOUT SENIORS : 04 50 71 18 56.\n
ATTACH;FMTTYPE=image/jpeg:https://www.ville-thonon.fr/app/uploads/2024/03/
 11038_200_Seniors-2024.jpg
END:VEVENT
BEGIN:VEVENT
UID:0-441@ville-thonon.fr
DTSTART;VALUE=DATE:20240301
DTEND;VALUE=DATE:20240401
DTSTAMP:20240312T130224Z
URL:https://www.ville-thonon.fr/evenements/seniors-les-animations-de-mars-
 2024/
SUMMARY:Seniors : les animations de mars 2024
DESCRIPTION:\n\n\nPlus d'infos auprès d'ATOUT SENIORS : 04 50 71 18 56.\n
ATTACH;FMTTYPE=image/jpeg:https://www.ville-thonon.fr/app/uploads/2024/03/
 11038_200_Seniors-2024.jpg
END:VEVENT
BEGIN:VEVENT
UID:0-441@ville-thonon.fr
DTSTART;VALUE=DATE:20240301
DTEND;VALUE=DATE:20240401
DTSTAMP:20240312T130224Z
URL:https://www.ville-thonon.fr/evenements/seniors-les-animations-de-mars-
 2024/
SUMMARY:Seniors : les animations de mars 2024
DESCRIPTION:\n\n\nPlus d'infos auprès d'ATOUT SENIORS : 04 50 71 18 56.\n
ATTACH;FMTTYPE=image/jpeg:https://www.ville-thonon.fr/app/uploads/2024/03/
 11038_200_Seniors-2024.jpg
END:VEVENT
BEGIN:VEVENT
UID:0-441@ville-thonon.fr
DTSTART;VALUE=DATE:20240301
DTEND;VALUE=DATE:20240401
DTSTAMP:20240312T130224Z
URL:https://www.ville-thonon.fr/evenements/seniors-les-animations-de-mars-
 2024/
SUMMARY:Seniors : les animations de mars 2024
DESCRIPTION:\n\n\nPlus d'infos auprès d'ATOUT SENIORS : 04 50 71 18 56.\n
ATTACH;FMTTYPE=image/jpeg:https://www.ville-thonon.fr/app/uploads/2024/03/
 11038_200_Seniors-2024.jpg
END:VEVENT
BEGIN:VEVENT
UID:0-441@ville-thonon.fr
DTSTART;VALUE=DATE:20240301
DTEND;VALUE=DATE:20240401
DTSTAMP:20240312T130224Z
URL:https://www.ville-thonon.fr/evenements/seniors-les-animations-de-mars-
 2024/
SUMMARY:Seniors : les animations de mars 2024
DESCRIPTION:\n\n\nPlus d'infos auprès d'ATOUT SENIORS : 04 50 71 18 56.\n
ATTACH;FMTTYPE=image/jpeg:https://www.ville-thonon.fr/app/uploads/2024/03/
 11038_200_Seniors-2024.jpg
END:VEVENT
BEGIN:VEVENT
UID:0-441@ville-thonon.fr
DTSTART;VALUE=DATE:20240301
DTEND;VALUE=DATE:20240401
DTSTAMP:20240312T130224Z
URL:https://www.ville-thonon.fr/evenements/seniors-les-animations-de-mars-
 2024/
SUMMARY:Seniors : les animations de mars 2024
DESCRIPTION:\n\n\nPlus d'infos auprès d'ATOUT SENIORS : 04 50 71 18 56.\n
ATTACH;FMTTYPE=image/jpeg:https://www.ville-thonon.fr/app/uploads/2024/03/
 11038_200_Seniors-2024.jpg
END:VEVENT
BEGIN:VEVENT
UID:0-441@ville-thonon.fr
DTSTART;VALUE=DATE:20240301
DTEND;VALUE=DATE:20240401
DTSTAMP:20240312T130224Z
URL:https://www.ville-thonon.fr/evenements/seniors-les-animations-de-mars-
 2024/
SUMMARY:Seniors : les animations de mars 2024
DESCRIPTION:\n\n\nPlus d'infos auprès d'ATOUT SENIORS : 04 50 71 18 56.\n
ATTACH;FMTTYPE=image/jpeg:https://www.ville-thonon.fr/app/uploads/2024/03/
 11038_200_Seniors-2024.jpg
END:VEVENT
BEGIN:VEVENT
UID:0-441@ville-thonon.fr
DTSTART;VALUE=DATE:20240301
DTEND;VALUE=DATE:20240401
DTSTAMP:20240312T130224Z
URL:https://www.ville-thonon.fr/evenements/seniors-les-animations-de-mars-
 2024/
SUMMARY:Seniors : les animations de mars 2024
DESCRIPTION:\n\n\nPlus d'infos auprès d'ATOUT SENIORS : 04 50 71 18 56.\n
ATTACH;FMTTYPE=image/jpeg:https://www.ville-thonon.fr/app/uploads/2024/03/
 11038_200_Seniors-2024.jpg
END:VEVENT
BEGIN:VEVENT
UID:0-441@ville-thonon.fr
DTSTART;VALUE=DATE:20240301
DTEND;VALUE=DATE:20240401
DTSTAMP:20240312T130224Z
URL:https://www.ville-thonon.fr/evenements/seniors-les-animations-de-mars-
 2024/
SUMMARY:Seniors : les animations de mars 2024
DESCRIPTION:\n\n\nPlus d'infos auprès d'ATOUT SENIORS : 04 50 71 18 56.\n
ATTACH;FMTTYPE=image/jpeg:https://www.ville-thonon.fr/app/uploads/2024/03/
 11038_200_Seniors-2024.jpg
END:VEVENT
BEGIN:VEVENT
UID:0-441@ville-thonon.fr
DTSTART;VALUE=DATE:20240301
DTEND;VALUE=DATE:20240401
DTSTAMP:20240312T130224Z
URL:https://www.ville-thonon.fr/evenements/seniors-les-animations-de-mars-
 2024/
SUMMARY:Seniors : les animations de mars 2024
DESCRIPTION:\n\n\nPlus d'infos auprès d'ATOUT SENIORS : 04 50 71 18 56.\n
ATTACH;FMTTYPE=image/jpeg:https://www.ville-thonon.fr/app/uploads/2024/03/
 11038_200_Seniors-2024.jpg
END:VEVENT
BEGIN:VEVENT
UID:0-441@ville-thonon.fr
DTSTART;VALUE=DATE:20240301
DTEND;VALUE=DATE:20240401
DTSTAMP:20240312T130224Z
URL:https://www.ville-thonon.fr/evenements/seniors-les-animations-de-mars-
 2024/
SUMMARY:Seniors : les animations de mars 2024
DESCRIPTION:\n\n\nPlus d'infos auprès d'ATOUT SENIORS : 04 50 71 18 56.\n
ATTACH;FMTTYPE=image/jpeg:https://www.ville-thonon.fr/app/uploads/2024/03/
 11038_200_Seniors-2024.jpg
END:VEVENT
BEGIN:VEVENT
UID:0-441@ville-thonon.fr
DTSTART;VALUE=DATE:20240301
DTEND;VALUE=DATE:20240401
DTSTAMP:20240312T130224Z
URL:https://www.ville-thonon.fr/evenements/seniors-les-animations-de-mars-
 2024/
SUMMARY:Seniors : les animations de mars 2024
DESCRIPTION:\n\n\nPlus d'infos auprès d'ATOUT SENIORS : 04 50 71 18 56.\n
ATTACH;FMTTYPE=image/jpeg:https://www.ville-thonon.fr/app/uploads/2024/03/
 11038_200_Seniors-2024.jpg
END:VEVENT
BEGIN:VEVENT
UID:0-441@ville-thonon.fr
DTSTART;VALUE=DATE:20240301
DTEND;VALUE=DATE:20240401
DTSTAMP:20240312T130224Z
URL:https://www.ville-thonon.fr/evenements/seniors-les-animations-de-mars-
 2024/
SUMMARY:Seniors : les animations de mars 2024
DESCRIPTION:\n\n\nPlus d'infos auprès d'ATOUT SENIORS : 04 50 71 18 56.\n
ATTACH;FMTTYPE=image/jpeg:https://www.ville-thonon.fr/app/uploads/2024/03/
 11038_200_Seniors-2024.jpg
END:VEVENT
BEGIN:VEVENT
UID:0-441@ville-thonon.fr
DTSTART;VALUE=DATE:20240301
DTEND;VALUE=DATE:20240401
DTSTAMP:20240312T130224Z
URL:https://www.ville-thonon.fr/evenements/seniors-les-animations-de-mars-
 2024/
SUMMARY:Seniors : les animations de mars 2024
DESCRIPTION:\n\n\nPlus d'infos auprès d'ATOUT SENIORS : 04 50 71 18 56.\n
ATTACH;FMTTYPE=image/jpeg:https://www.ville-thonon.fr/app/uploads/2024/03/
 11038_200_Seniors-2024.jpg
END:VEVENT
BEGIN:VEVENT
UID:0-441@ville-thonon.fr
DTSTART;VALUE=DATE:20240301
DTEND;VALUE=DATE:20240401
DTSTAMP:20240312T130224Z
URL:https://www.ville-thonon.fr/evenements/seniors-les-animations-de-mars-
 2024/
SUMMARY:Seniors : les animations de mars 2024
DESCRIPTION:\n\n\nPlus d'infos auprès d'ATOUT SENIORS : 04 50 71 18 56.\n
ATTACH;FMTTYPE=image/jpeg:https://www.ville-thonon.fr/app/uploads/2024/03/
 11038_200_Seniors-2024.jpg
END:VEVENT
BEGIN:VEVENT
UID:0-441@ville-thonon.fr
DTSTART;VALUE=DATE:20240301
DTEND;VALUE=DATE:20240401
DTSTAMP:20240312T130224Z
URL:https://www.ville-thonon.fr/evenements/seniors-les-animations-de-mars-
 2024/
SUMMARY:Seniors : les animations de mars 2024
DESCRIPTION:\n\n\nPlus d'infos auprès d'ATOUT SENIORS : 04 50 71 18 56.\n
ATTACH;FMTTYPE=image/jpeg:https://www.ville-thonon.fr/app/uploads/2024/03/
 11038_200_Seniors-2024.jpg
END:VEVENT
BEGIN:VEVENT
UID:0-441@ville-thonon.fr
DTSTART;VALUE=DATE:20240301
DTEND;VALUE=DATE:20240401
DTSTAMP:20240312T130224Z
URL:https://www.ville-thonon.fr/evenements/seniors-les-animations-de-mars-
 2024/
SUMMARY:Seniors : les animations de mars 2024
DESCRIPTION:\n\n\nPlus d'infos auprès d'ATOUT SENIORS : 04 50 71 18 56.\n
ATTACH;FMTTYPE=image/jpeg:https://www.ville-thonon.fr/app/uploads/2024/03/
 11038_200_Seniors-2024.jpg
END:VEVENT
BEGIN:VEVENT
UID:0-441@ville-thonon.fr
DTSTART;VALUE=DATE:20240301
DTEND;VALUE=DATE:20240401
DTSTAMP:20240312T130224Z
URL:https://www.ville-thonon.fr/evenements/seniors-les-animations-de-mars-
 2024/
SUMMARY:Seniors : les animations de mars 2024
DESCRIPTION:\n\n\nPlus d'infos auprès d'ATOUT SENIORS : 04 50 71 18 56.\n
ATTACH;FMTTYPE=image/jpeg:https://www.ville-thonon.fr/app/uploads/2024/03/
 11038_200_Seniors-2024.jpg
END:VEVENT
BEGIN:VEVENT
UID:0-441@ville-thonon.fr
DTSTART;VALUE=DATE:20240301
DTEND;VALUE=DATE:20240401
DTSTAMP:20240312T130224Z
URL:https://www.ville-thonon.fr/evenements/seniors-les-animations-de-mars-
 2024/
SUMMARY:Seniors : les animations de mars 2024
DESCRIPTION:\n\n\nPlus d'infos auprès d'ATOUT SENIORS : 04 50 71 18 56.\n
ATTACH;FMTTYPE=image/jpeg:https://www.ville-thonon.fr/app/uploads/2024/03/
 11038_200_Seniors-2024.jpg
END:VEVENT
BEGIN:VEVENT
UID:0-441@ville-thonon.fr
DTSTART;VALUE=DATE:20240301
DTEND;VALUE=DATE:20240401
DTSTAMP:20240312T130224Z
URL:https://www.ville-thonon.fr/evenements/seniors-les-animations-de-mars-
 2024/
SUMMARY:Seniors : les animations de mars 2024
DESCRIPTION:\n\n\nPlus d'infos auprès d'ATOUT SENIORS : 04 50 71 18 56.\n
ATTACH;FMTTYPE=image/jpeg:https://www.ville-thonon.fr/app/uploads/2024/03/
 11038_200_Seniors-2024.jpg
END:VEVENT
BEGIN:VEVENT
UID:0-441@ville-thonon.fr
DTSTART;VALUE=DATE:20240301
DTEND;VALUE=DATE:20240401
DTSTAMP:20240312T130224Z
URL:https://www.ville-thonon.fr/evenements/seniors-les-animations-de-mars-
 2024/
SUMMARY:Seniors : les animations de mars 2024
DESCRIPTION:\n\n\nPlus d'infos auprès d'ATOUT SENIORS : 04 50 71 18 56.\n
ATTACH;FMTTYPE=image/jpeg:https://www.ville-thonon.fr/app/uploads/2024/03/
 11038_200_Seniors-2024.jpg
END:VEVENT
BEGIN:VEVENT
UID:0-441@ville-thonon.fr
DTSTART;VALUE=DATE:20240301
DTEND;VALUE=DATE:20240401
DTSTAMP:20240312T130224Z
URL:https://www.ville-thonon.fr/evenements/seniors-les-animations-de-mars-
 2024/
SUMMARY:Seniors : les animations de mars 2024
DESCRIPTION:\n\n\nPlus d'infos auprès d'ATOUT SENIORS : 04 50 71 18 56.\n
ATTACH;FMTTYPE=image/jpeg:https://www.ville-thonon.fr/app/uploads/2024/03/
 11038_200_Seniors-2024.jpg
END:VEVENT
BEGIN:VEVENT
UID:0-441@ville-thonon.fr
DTSTART;VALUE=DATE:20240301
DTEND;VALUE=DATE:20240401
DTSTAMP:20240312T130224Z
URL:https://www.ville-thonon.fr/evenements/seniors-les-animations-de-mars-
 2024/
SUMMARY:Seniors : les animations de mars 2024
DESCRIPTION:\n\n\nPlus d'infos auprès d'ATOUT SENIORS : 04 50 71 18 56.\n
ATTACH;FMTTYPE=image/jpeg:https://www.ville-thonon.fr/app/uploads/2024/03/
 11038_200_Seniors-2024.jpg
END:VEVENT
BEGIN:VEVENT
UID:0-441@ville-thonon.fr
DTSTART;VALUE=DATE:20240301
DTEND;VALUE=DATE:20240401
DTSTAMP:20240312T130224Z
URL:https://www.ville-thonon.fr/evenements/seniors-les-animations-de-mars-
 2024/
SUMMARY:Seniors : les animations de mars 2024
DESCRIPTION:\n\n\nPlus d'infos auprès d'ATOUT SENIORS : 04 50 71 18 56.\n
ATTACH;FMTTYPE=image/jpeg:https://www.ville-thonon.fr/app/uploads/2024/03/
 11038_200_Seniors-2024.jpg
END:VEVENT
BEGIN:VEVENT
UID:0-441@ville-thonon.fr
DTSTART;VALUE=DATE:20240301
DTEND;VALUE=DATE:20240401
DTSTAMP:20240312T130224Z
URL:https://www.ville-thonon.fr/evenements/seniors-les-animations-de-mars-
 2024/
SUMMARY:Seniors : les animations de mars 2024
DESCRIPTION:\n\n\nPlus d'infos auprès d'ATOUT SENIORS : 04 50 71 18 56.\n
ATTACH;FMTTYPE=image/jpeg:https://www.ville-thonon.fr/app/uploads/2024/03/
 11038_200_Seniors-2024.jpg
END:VEVENT
BEGIN:VEVENT
UID:0-441@ville-thonon.fr
DTSTART;VALUE=DATE:20240301
DTEND;VALUE=DATE:20240401
DTSTAMP:20240312T130224Z
URL:https://www.ville-thonon.fr/evenements/seniors-les-animations-de-mars-
 2024/
SUMMARY:Seniors : les animations de mars 2024
DESCRIPTION:\n\n\nPlus d'infos auprès d'ATOUT SENIORS : 04 50 71 18 56.\n
ATTACH;FMTTYPE=image/jpeg:https://www.ville-thonon.fr/app/uploads/2024/03/
 11038_200_Seniors-2024.jpg
END:VEVENT
BEGIN:VEVENT
UID:0-441@ville-thonon.fr
DTSTART;VALUE=DATE:20240301
DTEND;VALUE=DATE:20240401
DTSTAMP:20240312T130224Z
URL:https://www.ville-thonon.fr/evenements/seniors-les-animations-de-mars-
 2024/
SUMMARY:Seniors : les animations de mars 2024
DESCRIPTION:\n\n\nPlus d'infos auprès d'ATOUT SENIORS : 04 50 71 18 56.\n
ATTACH;FMTTYPE=image/jpeg:https://www.ville-thonon.fr/app/uploads/2024/03/
 11038_200_Seniors-2024.jpg
END:VEVENT
BEGIN:VEVENT
UID:0-441@ville-thonon.fr
DTSTART;VALUE=DATE:20240301
DTEND;VALUE=DATE:20240401
DTSTAMP:20240312T130224Z
URL:https://www.ville-thonon.fr/evenements/seniors-les-animations-de-mars-
 2024/
SUMMARY:Seniors : les animations de mars 2024
DESCRIPTION:\n\n\nPlus d'infos auprès d'ATOUT SENIORS : 04 50 71 18 56.\n
ATTACH;FMTTYPE=image/jpeg:https://www.ville-thonon.fr/app/uploads/2024/03/
 11038_200_Seniors-2024.jpg
END:VEVENT
BEGIN:VEVENT
UID:0-441@ville-thonon.fr
DTSTART;VALUE=DATE:20240301
DTEND;VALUE=DATE:20240401
DTSTAMP:20240312T130224Z
URL:https://www.ville-thonon.fr/evenements/seniors-les-animations-de-mars-
 2024/
SUMMARY:Seniors : les animations de mars 2024
DESCRIPTION:\n\n\nPlus d'infos auprès d'ATOUT SENIORS : 04 50 71 18 56.\n
ATTACH;FMTTYPE=image/jpeg:https://www.ville-thonon.fr/app/uploads/2024/03/
 11038_200_Seniors-2024.jpg
END:VEVENT
BEGIN:VEVENT
UID:0-441@ville-thonon.fr
DTSTART;VALUE=DATE:20240301
DTEND;VALUE=DATE:20240401
DTSTAMP:20240312T130224Z
URL:https://www.ville-thonon.fr/evenements/seniors-les-animations-de-mars-
 2024/
SUMMARY:Seniors : les animations de mars 2024
DESCRIPTION:\n\n\nPlus d'infos auprès d'ATOUT SENIORS : 04 50 71 18 56.\n
ATTACH;FMTTYPE=image/jpeg:https://www.ville-thonon.fr/app/uploads/2024/03/
 11038_200_Seniors-2024.jpg
END:VEVENT
BEGIN:VEVENT
UID:0-441@ville-thonon.fr
DTSTART;VALUE=DATE:20240301
DTEND;VALUE=DATE:20240401
DTSTAMP:20240312T130224Z
URL:https://www.ville-thonon.fr/evenements/seniors-les-animations-de-mars-
 2024/
SUMMARY:Seniors : les animations de mars 2024
DESCRIPTION:\n\n\nPlus d'infos auprès d'ATOUT SENIORS : 04 50 71 18 56.\n
ATTACH;FMTTYPE=image/jpeg:https://www.ville-thonon.fr/app/uploads/2024/03/
 11038_200_Seniors-2024.jpg
END:VEVENT
BEGIN:VEVENT
UID:0-441@ville-thonon.fr
DTSTART;VALUE=DATE:20240301
DTEND;VALUE=DATE:20240401
DTSTAMP:20240312T130224Z
URL:https://www.ville-thonon.fr/evenements/seniors-les-animations-de-mars-
 2024/
SUMMARY:Seniors : les animations de mars 2024
DESCRIPTION:\n\n\nPlus d'infos auprès d'ATOUT SENIORS : 04 50 71 18 56.\n
ATTACH;FMTTYPE=image/jpeg:https://www.ville-thonon.fr/app/uploads/2024/03/
 11038_200_Seniors-2024.jpg
END:VEVENT
BEGIN:VEVENT
UID:0-441@ville-thonon.fr
DTSTART;VALUE=DATE:20240301
DTEND;VALUE=DATE:20240401
DTSTAMP:20240312T130224Z
URL:https://www.ville-thonon.fr/evenements/seniors-les-animations-de-mars-
 2024/
SUMMARY:Seniors : les animations de mars 2024
DESCRIPTION:\n\n\nPlus d'infos auprès d'ATOUT SENIORS : 04 50 71 18 56.\n
ATTACH;FMTTYPE=image/jpeg:https://www.ville-thonon.fr/app/uploads/2024/03/
 11038_200_Seniors-2024.jpg
END:VEVENT
BEGIN:VEVENT
UID:0-441@ville-thonon.fr
DTSTART;VALUE=DATE:20240301
DTEND;VALUE=DATE:20240401
DTSTAMP:20240312T130224Z
URL:https://www.ville-thonon.fr/evenements/seniors-les-animations-de-mars-
 2024/
SUMMARY:Seniors : les animations de mars 2024
DESCRIPTION:\n\n\nPlus d'infos auprès d'ATOUT SENIORS : 04 50 71 18 56.\n
ATTACH;FMTTYPE=image/jpeg:https://www.ville-thonon.fr/app/uploads/2024/03/
 11038_200_Seniors-2024.jpg
END:VEVENT
BEGIN:VEVENT
UID:0-441@ville-thonon.fr
DTSTART;VALUE=DATE:20240301
DTEND;VALUE=DATE:20240401
DTSTAMP:20240312T130224Z
URL:https://www.ville-thonon.fr/evenements/seniors-les-animations-de-mars-
 2024/
SUMMARY:Seniors : les animations de mars 2024
DESCRIPTION:\n\n\nPlus d'infos auprès d'ATOUT SENIORS : 04 50 71 18 56.\n
ATTACH;FMTTYPE=image/jpeg:https://www.ville-thonon.fr/app/uploads/2024/03/
 11038_200_Seniors-2024.jpg
END:VEVENT
BEGIN:VEVENT
UID:0-441@ville-thonon.fr
DTSTART;VALUE=DATE:20240301
DTEND;VALUE=DATE:20240401
DTSTAMP:20240312T130224Z
URL:https://www.ville-thonon.fr/evenements/seniors-les-animations-de-mars-
 2024/
SUMMARY:Seniors : les animations de mars 2024
DESCRIPTION:\n\n\nPlus d'infos auprès d'ATOUT SENIORS : 04 50 71 18 56.\n
ATTACH;FMTTYPE=image/jpeg:https://www.ville-thonon.fr/app/uploads/2024/03/
 11038_200_Seniors-2024.jpg
END:VEVENT
BEGIN:VEVENT
UID:0-441@ville-thonon.fr
DTSTART;VALUE=DATE:20240301
DTEND;VALUE=DATE:20240401
DTSTAMP:20240312T130224Z
URL:https://www.ville-thonon.fr/evenements/seniors-les-animations-de-mars-
 2024/
SUMMARY:Seniors : les animations de mars 2024
DESCRIPTION:\n\n\nPlus d'infos auprès d'ATOUT SENIORS : 04 50 71 18 56.\n
ATTACH;FMTTYPE=image/jpeg:https://www.ville-thonon.fr/app/uploads/2024/03/
 11038_200_Seniors-2024.jpg
END:VEVENT
BEGIN:VEVENT
UID:0-441@ville-thonon.fr
DTSTART;VALUE=DATE:20240301
DTEND;VALUE=DATE:20240401
DTSTAMP:20240312T130224Z
URL:https://www.ville-thonon.fr/evenements/seniors-les-animations-de-mars-
 2024/
SUMMARY:Seniors : les animations de mars 2024
DESCRIPTION:\n\n\nPlus d'infos auprès d'ATOUT SENIORS : 04 50 71 18 56.\n
ATTACH;FMTTYPE=image/jpeg:https://www.ville-thonon.fr/app/uploads/2024/03/
 11038_200_Seniors-2024.jpg
END:VEVENT
BEGIN:VEVENT
UID:0-441@ville-thonon.fr
DTSTART;VALUE=DATE:20240301
DTEND;VALUE=DATE:20240401
DTSTAMP:20240312T130224Z
URL:https://www.ville-thonon.fr/evenements/seniors-les-animations-de-mars-
 2024/
SUMMARY:Seniors : les animations de mars 2024
DESCRIPTION:\n\n\nPlus d'infos auprès d'ATOUT SENIORS : 04 50 71 18 56.\n
ATTACH;FMTTYPE=image/jpeg:https://www.ville-thonon.fr/app/uploads/2024/03/
 11038_200_Seniors-2024.jpg
END:VEVENT
BEGIN:VEVENT
UID:0-441@ville-thonon.fr
DTSTART;VALUE=DATE:20240301
DTEND;VALUE=DATE:20240401
DTSTAMP:20240312T130224Z
URL:https://www.ville-thonon.fr/evenements/seniors-les-animations-de-mars-
 2024/
SUMMARY:Seniors : les animations de mars 2024
DESCRIPTION:\n\n\nPlus d'infos auprès d'ATOUT SENIORS : 04 50 71 18 56.\n
ATTACH;FMTTYPE=image/jpeg:https://www.ville-thonon.fr/app/uploads/2024/03/
 11038_200_Seniors-2024.jpg
END:VEVENT
BEGIN:VEVENT
UID:0-441@ville-thonon.fr
DTSTART;VALUE=DATE:20240301
DTEND;VALUE=DATE:20240401
DTSTAMP:20240312T130224Z
URL:https://www.ville-thonon.fr/evenements/seniors-les-animations-de-mars-
 2024/
SUMMARY:Seniors : les animations de mars 2024
DESCRIPTION:\n\n\nPlus d'infos auprès d'ATOUT SENIORS : 04 50 71 18 56.\n
ATTACH;FMTTYPE=image/jpeg:https://www.ville-thonon.fr/app/uploads/2024/03/
 11038_200_Seniors-2024.jpg
END:VEVENT
BEGIN:VEVENT
UID:0-441@ville-thonon.fr
DTSTART;VALUE=DATE:20240301
DTEND;VALUE=DATE:20240401
DTSTAMP:20240312T130224Z
URL:https://www.ville-thonon.fr/evenements/seniors-les-animations-de-mars-
 2024/
SUMMARY:Seniors : les animations de mars 2024
DESCRIPTION:\n\n\nPlus d'infos auprès d'ATOUT SENIORS : 04 50 71 18 56.\n
ATTACH;FMTTYPE=image/jpeg:https://www.ville-thonon.fr/app/uploads/2024/03/
 11038_200_Seniors-2024.jpg
END:VEVENT
BEGIN:VEVENT
UID:0-441@ville-thonon.fr
DTSTART;VALUE=DATE:20240301
DTEND;VALUE=DATE:20240401
DTSTAMP:20240312T130224Z
URL:https://www.ville-thonon.fr/evenements/seniors-les-animations-de-mars-
 2024/
SUMMARY:Seniors : les animations de mars 2024
DESCRIPTION:\n\n\nPlus d'infos auprès d'ATOUT SENIORS : 04 50 71 18 56.\n
ATTACH;FMTTYPE=image/jpeg:https://www.ville-thonon.fr/app/uploads/2024/03/
 11038_200_Seniors-2024.jpg
END:VEVENT
BEGIN:VEVENT
UID:0-441@ville-thonon.fr
DTSTART;VALUE=DATE:20240301
DTEND;VALUE=DATE:20240401
DTSTAMP:20240312T130224Z
URL:https://www.ville-thonon.fr/evenements/seniors-les-animations-de-mars-
 2024/
SUMMARY:Seniors : les animations de mars 2024
DESCRIPTION:\n\n\nPlus d'infos auprès d'ATOUT SENIORS : 04 50 71 18 56.\n
ATTACH;FMTTYPE=image/jpeg:https://www.ville-thonon.fr/app/uploads/2024/03/
 11038_200_Seniors-2024.jpg
END:VEVENT
END:VCALENDAR