BEGIN:VCALENDAR
VERSION:2.0
PRODID:-//wp-events-plugin.com//7.1.7//EN
TZID:Europe/Paris
X-WR-TIMEZONE:Europe/Paris
BEGIN:VEVENT
UID:0-461@ville-thonon.fr
DTSTART;VALUE=DATE:20241115
DTEND;VALUE=DATE:19700102
DTSTAMP:20241112T135217Z
URL:https://www.ville-thonon.fr/evenements/agenda-sportif-du-week-end/
SUMMARY:Agenda sportif du week-end
DESCRIPTION:Découvrez les compétitions sportives à Thonon prévues pour 
 ce week-end.\nTéléchargez le programme - compétitions sportives du week
 -end
ATTACH;FMTTYPE=image/jpeg:https://www.ville-thonon.fr/app/uploads/2024/11/
 6132_497_Agenda-Sport-Handball.jpg
CATEGORIES:Sport
END:VEVENT
BEGIN:VEVENT
UID:0-461@ville-thonon.fr
DTSTART;VALUE=DATE:20241115
DTEND;VALUE=DATE:19700102
DTSTAMP:20241112T135217Z
URL:https://www.ville-thonon.fr/evenements/agenda-sportif-du-week-end/
SUMMARY:Agenda sportif du week-end
DESCRIPTION:\nDécouvrez les compétitions sportives à Thonon prévues pou
 r ce week-end.\n\n\n\nTéléchargez le programme - compétitions sportives
  du week-end\n
ATTACH;FMTTYPE=image/jpeg:https://www.ville-thonon.fr/app/uploads/2024/11/
 6132_497_Agenda-Sport-Handball.jpg
CATEGORIES:Sport
END:VEVENT
BEGIN:VEVENT
UID:0-461@ville-thonon.fr
DTSTART;VALUE=DATE:20241115
DTEND;VALUE=DATE:19700102
DTSTAMP:20241112T135217Z
URL:https://www.ville-thonon.fr/evenements/agenda-sportif-du-week-end/
SUMMARY:Agenda sportif du week-end
DESCRIPTION:\nDécouvrez les compétitions sportives à Thonon prévues pou
 r ce week-end.\n\n\n\nTéléchargez le programme - compétitions sportives
  du week-end\n
ATTACH;FMTTYPE=image/jpeg:https://www.ville-thonon.fr/app/uploads/2024/11/
 6132_497_Agenda-Sport-Handball.jpg
CATEGORIES:Sport
END:VEVENT
BEGIN:VEVENT
UID:0-461@ville-thonon.fr
DTSTART;VALUE=DATE:20241115
DTEND;VALUE=DATE:19700102
DTSTAMP:20241112T135217Z
URL:https://www.ville-thonon.fr/evenements/agenda-sportif-du-week-end/
SUMMARY:Agenda sportif du week-end
DESCRIPTION:\nDécouvrez les compétitions sportives à Thonon prévues pou
 r ce week-end.\n\n\n\nTéléchargez le programme - compétitions sportives
  du week-end\n
ATTACH;FMTTYPE=image/jpeg:https://www.ville-thonon.fr/app/uploads/2024/11/
 6132_497_Agenda-Sport-Handball.jpg
CATEGORIES:Sport
END:VEVENT
BEGIN:VEVENT
UID:0-461@ville-thonon.fr
DTSTART;VALUE=DATE:20241115
DTEND;VALUE=DATE:19700102
DTSTAMP:20241112T135217Z
URL:https://www.ville-thonon.fr/evenements/agenda-sportif-du-week-end/
SUMMARY:Agenda sportif du week-end
DESCRIPTION:\nDécouvrez les compétitions sportives à Thonon prévues pou
 r ce week-end.\n\n\n\nTéléchargez le programme - compétitions sportives
  du week-end\n
ATTACH;FMTTYPE=image/jpeg:https://www.ville-thonon.fr/app/uploads/2024/11/
 6132_497_Agenda-Sport-Handball.jpg
CATEGORIES:Sport
END:VEVENT
BEGIN:VEVENT
UID:0-461@ville-thonon.fr
DTSTART;VALUE=DATE:20241115
DTEND;VALUE=DATE:19700102
DTSTAMP:20241112T135217Z
URL:https://www.ville-thonon.fr/evenements/agenda-sportif-du-week-end/
SUMMARY:Agenda sportif du week-end
DESCRIPTION:\nDécouvrez les compétitions sportives à Thonon prévues pou
 r ce week-end.\n\n\n\nTéléchargez le programme - compétitions sportives
  du week-end\n
ATTACH;FMTTYPE=image/jpeg:https://www.ville-thonon.fr/app/uploads/2024/11/
 6132_497_Agenda-Sport-Handball.jpg
CATEGORIES:Sport
END:VEVENT
BEGIN:VEVENT
UID:0-461@ville-thonon.fr
DTSTART;VALUE=DATE:20241115
DTEND;VALUE=DATE:19700102
DTSTAMP:20241112T135217Z
URL:https://www.ville-thonon.fr/evenements/agenda-sportif-du-week-end/
SUMMARY:Agenda sportif du week-end
DESCRIPTION:\nDécouvrez les compétitions sportives à Thonon prévues pou
 r ce week-end.\n\n\n\nTéléchargez le programme - compétitions sportives
  du week-end\n
ATTACH;FMTTYPE=image/jpeg:https://www.ville-thonon.fr/app/uploads/2024/11/
 6132_497_Agenda-Sport-Handball.jpg
CATEGORIES:Sport
END:VEVENT
BEGIN:VEVENT
UID:0-461@ville-thonon.fr
DTSTART;VALUE=DATE:20241115
DTEND;VALUE=DATE:19700102
DTSTAMP:20241112T135217Z
URL:https://www.ville-thonon.fr/evenements/agenda-sportif-du-week-end/
SUMMARY:Agenda sportif du week-end
DESCRIPTION:\nDécouvrez les compétitions sportives à Thonon prévues pou
 r ce week-end.\n\n\n\nTéléchargez le programme - compétitions sportives
  du week-end\n
ATTACH;FMTTYPE=image/jpeg:https://www.ville-thonon.fr/app/uploads/2024/11/
 6132_497_Agenda-Sport-Handball.jpg
CATEGORIES:Sport
END:VEVENT
BEGIN:VEVENT
UID:0-461@ville-thonon.fr
DTSTART;VALUE=DATE:20241115
DTEND;VALUE=DATE:19700102
DTSTAMP:20241112T135217Z
URL:https://www.ville-thonon.fr/evenements/agenda-sportif-du-week-end/
SUMMARY:Agenda sportif du week-end
DESCRIPTION:\nDécouvrez les compétitions sportives à Thonon prévues pou
 r ce week-end.\n\n\n\nTéléchargez le programme - compétitions sportives
  du week-end\n
ATTACH;FMTTYPE=image/jpeg:https://www.ville-thonon.fr/app/uploads/2024/11/
 6132_497_Agenda-Sport-Handball.jpg
CATEGORIES:Sport
END:VEVENT
BEGIN:VEVENT
UID:0-461@ville-thonon.fr
DTSTART;VALUE=DATE:20241115
DTEND;VALUE=DATE:19700102
DTSTAMP:20241112T135217Z
URL:https://www.ville-thonon.fr/evenements/agenda-sportif-du-week-end/
SUMMARY:Agenda sportif du week-end
DESCRIPTION:\nDécouvrez les compétitions sportives à Thonon prévues pou
 r ce week-end.\n\n\n\nTéléchargez le programme - compétitions sportives
  du week-end\n
ATTACH;FMTTYPE=image/jpeg:https://www.ville-thonon.fr/app/uploads/2024/11/
 6132_497_Agenda-Sport-Handball.jpg
CATEGORIES:Sport
END:VEVENT
BEGIN:VEVENT
UID:0-461@ville-thonon.fr
DTSTART;VALUE=DATE:20241115
DTEND;VALUE=DATE:19700102
DTSTAMP:20241112T135217Z
URL:https://www.ville-thonon.fr/evenements/agenda-sportif-du-week-end/
SUMMARY:Agenda sportif du week-end
DESCRIPTION:\nDécouvrez les compétitions sportives à Thonon prévues pou
 r ce week-end.\n\n\n\nTéléchargez le programme - compétitions sportives
  du week-end\n
ATTACH;FMTTYPE=image/jpeg:https://www.ville-thonon.fr/app/uploads/2024/11/
 6132_497_Agenda-Sport-Handball.jpg
CATEGORIES:Sport
END:VEVENT
BEGIN:VEVENT
UID:0-461@ville-thonon.fr
DTSTART;VALUE=DATE:20241115
DTEND;VALUE=DATE:19700102
DTSTAMP:20241112T135217Z
URL:https://www.ville-thonon.fr/evenements/agenda-sportif-du-week-end/
SUMMARY:Agenda sportif du week-end
DESCRIPTION:\nDécouvrez les compétitions sportives à Thonon prévues pou
 r ce week-end.\n\n\n\nTéléchargez le programme - compétitions sportives
  du week-end\n
ATTACH;FMTTYPE=image/jpeg:https://www.ville-thonon.fr/app/uploads/2024/11/
 6132_497_Agenda-Sport-Handball.jpg
CATEGORIES:Sport
END:VEVENT
BEGIN:VEVENT
UID:0-461@ville-thonon.fr
DTSTART;VALUE=DATE:20241115
DTEND;VALUE=DATE:19700102
DTSTAMP:20241112T135217Z
URL:https://www.ville-thonon.fr/evenements/agenda-sportif-du-week-end/
SUMMARY:Agenda sportif du week-end
DESCRIPTION:\nDécouvrez les compétitions sportives à Thonon prévues pou
 r ce week-end.\n\n\n\nTéléchargez le programme - compétitions sportives
  du week-end\n
ATTACH;FMTTYPE=image/jpeg:https://www.ville-thonon.fr/app/uploads/2024/11/
 6132_497_Agenda-Sport-Handball.jpg
CATEGORIES:Sport
END:VEVENT
BEGIN:VEVENT
UID:0-461@ville-thonon.fr
DTSTART;VALUE=DATE:20241115
DTEND;VALUE=DATE:19700102
DTSTAMP:20241112T135217Z
URL:https://www.ville-thonon.fr/evenements/agenda-sportif-du-week-end/
SUMMARY:Agenda sportif du week-end
DESCRIPTION:\nDécouvrez les compétitions sportives à Thonon prévues pou
 r ce week-end.\n\n\n\nTéléchargez le programme - compétitions sportives
  du week-end\n
ATTACH;FMTTYPE=image/jpeg:https://www.ville-thonon.fr/app/uploads/2024/11/
 6132_497_Agenda-Sport-Handball.jpg
CATEGORIES:Sport
END:VEVENT
BEGIN:VEVENT
UID:0-461@ville-thonon.fr
DTSTART;VALUE=DATE:20241115
DTEND;VALUE=DATE:19700102
DTSTAMP:20241112T135217Z
URL:https://www.ville-thonon.fr/evenements/agenda-sportif-du-week-end/
SUMMARY:Agenda sportif du week-end
DESCRIPTION:\nDécouvrez les compétitions sportives à Thonon prévues pou
 r ce week-end.\n\n\n\nTéléchargez le programme - compétitions sportives
  du week-end\n
ATTACH;FMTTYPE=image/jpeg:https://www.ville-thonon.fr/app/uploads/2024/11/
 6132_497_Agenda-Sport-Handball.jpg
CATEGORIES:Sport
END:VEVENT
BEGIN:VEVENT
UID:0-461@ville-thonon.fr
DTSTART;VALUE=DATE:20241115
DTEND;VALUE=DATE:19700102
DTSTAMP:20241112T135217Z
URL:https://www.ville-thonon.fr/evenements/agenda-sportif-du-week-end/
SUMMARY:Agenda sportif du week-end
DESCRIPTION:\nDécouvrez les compétitions sportives à Thonon prévues pou
 r ce week-end.\n\n\n\nTéléchargez le programme - compétitions sportives
  du week-end\n
ATTACH;FMTTYPE=image/jpeg:https://www.ville-thonon.fr/app/uploads/2024/11/
 6132_497_Agenda-Sport-Handball.jpg
CATEGORIES:Sport
END:VEVENT
BEGIN:VEVENT
UID:0-461@ville-thonon.fr
DTSTART;VALUE=DATE:20241115
DTEND;VALUE=DATE:19700102
DTSTAMP:20241112T135217Z
URL:https://www.ville-thonon.fr/evenements/agenda-sportif-du-week-end/
SUMMARY:Agenda sportif du week-end
DESCRIPTION:\nDécouvrez les compétitions sportives à Thonon prévues pou
 r ce week-end.\n\n\n\nTéléchargez le programme - compétitions sportives
  du week-end\n
ATTACH;FMTTYPE=image/jpeg:https://www.ville-thonon.fr/app/uploads/2024/11/
 6132_497_Agenda-Sport-Handball.jpg
CATEGORIES:Sport
END:VEVENT
BEGIN:VEVENT
UID:0-461@ville-thonon.fr
DTSTART;VALUE=DATE:20241115
DTEND;VALUE=DATE:19700102
DTSTAMP:20241112T135217Z
URL:https://www.ville-thonon.fr/evenements/agenda-sportif-du-week-end/
SUMMARY:Agenda sportif du week-end
DESCRIPTION:\nDécouvrez les compétitions sportives à Thonon prévues pou
 r ce week-end.\n\n\n\nTéléchargez le programme - compétitions sportives
  du week-end\n
ATTACH;FMTTYPE=image/jpeg:https://www.ville-thonon.fr/app/uploads/2024/11/
 6132_497_Agenda-Sport-Handball.jpg
CATEGORIES:Sport
END:VEVENT
BEGIN:VEVENT
UID:0-461@ville-thonon.fr
DTSTART;VALUE=DATE:20241115
DTEND;VALUE=DATE:19700102
DTSTAMP:20241112T135217Z
URL:https://www.ville-thonon.fr/evenements/agenda-sportif-du-week-end/
SUMMARY:Agenda sportif du week-end
DESCRIPTION:\nDécouvrez les compétitions sportives à Thonon prévues pou
 r ce week-end.\n\n\n\nTéléchargez le programme - compétitions sportives
  du week-end\n
ATTACH;FMTTYPE=image/jpeg:https://www.ville-thonon.fr/app/uploads/2024/11/
 6132_497_Agenda-Sport-Handball.jpg
CATEGORIES:Sport
END:VEVENT
BEGIN:VEVENT
UID:0-461@ville-thonon.fr
DTSTART;VALUE=DATE:20241115
DTEND;VALUE=DATE:19700102
DTSTAMP:20241112T135217Z
URL:https://www.ville-thonon.fr/evenements/agenda-sportif-du-week-end/
SUMMARY:Agenda sportif du week-end
DESCRIPTION:\nDécouvrez les compétitions sportives à Thonon prévues pou
 r ce week-end.\n\n\n\nTéléchargez le programme - compétitions sportives
  du week-end\n
ATTACH;FMTTYPE=image/jpeg:https://www.ville-thonon.fr/app/uploads/2024/11/
 6132_497_Agenda-Sport-Handball.jpg
CATEGORIES:Sport
END:VEVENT
BEGIN:VEVENT
UID:0-461@ville-thonon.fr
DTSTART;VALUE=DATE:20241115
DTEND;VALUE=DATE:19700102
DTSTAMP:20241112T135217Z
URL:https://www.ville-thonon.fr/evenements/agenda-sportif-du-week-end/
SUMMARY:Agenda sportif du week-end
DESCRIPTION:\nDécouvrez les compétitions sportives à Thonon prévues pou
 r ce week-end.\n\n\n\nTéléchargez le programme - compétitions sportives
  du week-end\n
ATTACH;FMTTYPE=image/jpeg:https://www.ville-thonon.fr/app/uploads/2024/11/
 6132_497_Agenda-Sport-Handball.jpg
CATEGORIES:Sport
END:VEVENT
BEGIN:VEVENT
UID:0-461@ville-thonon.fr
DTSTART;VALUE=DATE:20241115
DTEND;VALUE=DATE:19700102
DTSTAMP:20241112T135217Z
URL:https://www.ville-thonon.fr/evenements/agenda-sportif-du-week-end/
SUMMARY:Agenda sportif du week-end
DESCRIPTION:\nDécouvrez les compétitions sportives à Thonon prévues pou
 r ce week-end.\n\n\n\nTéléchargez le programme - compétitions sportives
  du week-end\n
ATTACH;FMTTYPE=image/jpeg:https://www.ville-thonon.fr/app/uploads/2024/11/
 6132_497_Agenda-Sport-Handball.jpg
CATEGORIES:Sport
END:VEVENT
BEGIN:VEVENT
UID:0-461@ville-thonon.fr
DTSTART;VALUE=DATE:20241115
DTEND;VALUE=DATE:19700102
DTSTAMP:20241112T135217Z
URL:https://www.ville-thonon.fr/evenements/agenda-sportif-du-week-end/
SUMMARY:Agenda sportif du week-end
DESCRIPTION:\nDécouvrez les compétitions sportives à Thonon prévues pou
 r ce week-end.\n\n\n\nTéléchargez le programme - compétitions sportives
  du week-end\n
ATTACH;FMTTYPE=image/jpeg:https://www.ville-thonon.fr/app/uploads/2024/11/
 6132_497_Agenda-Sport-Handball.jpg
CATEGORIES:Sport
END:VEVENT
BEGIN:VEVENT
UID:0-461@ville-thonon.fr
DTSTART;VALUE=DATE:20241115
DTEND;VALUE=DATE:19700102
DTSTAMP:20241112T135217Z
URL:https://www.ville-thonon.fr/evenements/agenda-sportif-du-week-end/
SUMMARY:Agenda sportif du week-end
DESCRIPTION:\nDécouvrez les compétitions sportives à Thonon prévues pou
 r ce week-end.\n\n\n\nTéléchargez le programme - compétitions sportives
  du week-end\n
ATTACH;FMTTYPE=image/jpeg:https://www.ville-thonon.fr/app/uploads/2024/11/
 6132_497_Agenda-Sport-Handball.jpg
CATEGORIES:Sport
END:VEVENT
BEGIN:VEVENT
UID:0-461@ville-thonon.fr
DTSTART;VALUE=DATE:20241115
DTEND;VALUE=DATE:19700102
DTSTAMP:20241112T135217Z
URL:https://www.ville-thonon.fr/evenements/agenda-sportif-du-week-end/
SUMMARY:Agenda sportif du week-end
DESCRIPTION:\nDécouvrez les compétitions sportives à Thonon prévues pou
 r ce week-end.\n\n\n\nTéléchargez le programme - compétitions sportives
  du week-end\n
ATTACH;FMTTYPE=image/jpeg:https://www.ville-thonon.fr/app/uploads/2024/11/
 6132_497_Agenda-Sport-Handball.jpg
CATEGORIES:Sport
END:VEVENT
BEGIN:VEVENT
UID:0-461@ville-thonon.fr
DTSTART;VALUE=DATE:20241115
DTEND;VALUE=DATE:19700102
DTSTAMP:20241112T135217Z
URL:https://www.ville-thonon.fr/evenements/agenda-sportif-du-week-end/
SUMMARY:Agenda sportif du week-end
DESCRIPTION:\nDécouvrez les compétitions sportives à Thonon prévues pou
 r ce week-end.\n\n\n\nTéléchargez le programme - compétitions sportives
  du week-end\n
ATTACH;FMTTYPE=image/jpeg:https://www.ville-thonon.fr/app/uploads/2024/11/
 6132_497_Agenda-Sport-Handball.jpg
CATEGORIES:Sport
END:VEVENT
BEGIN:VEVENT
UID:0-461@ville-thonon.fr
DTSTART;VALUE=DATE:20241115
DTEND;VALUE=DATE:19700102
DTSTAMP:20241112T135217Z
URL:https://www.ville-thonon.fr/evenements/agenda-sportif-du-week-end/
SUMMARY:Agenda sportif du week-end
DESCRIPTION:\nDécouvrez les compétitions sportives à Thonon prévues pou
 r ce week-end.\n\n\n\nTéléchargez le programme - compétitions sportives
  du week-end\n
ATTACH;FMTTYPE=image/jpeg:https://www.ville-thonon.fr/app/uploads/2024/11/
 6132_497_Agenda-Sport-Handball.jpg
CATEGORIES:Sport
END:VEVENT
BEGIN:VEVENT
UID:0-461@ville-thonon.fr
DTSTART;VALUE=DATE:20241115
DTEND;VALUE=DATE:19700102
DTSTAMP:20241112T135217Z
URL:https://www.ville-thonon.fr/evenements/agenda-sportif-du-week-end/
SUMMARY:Agenda sportif du week-end
DESCRIPTION:\nDécouvrez les compétitions sportives à Thonon prévues pou
 r ce week-end.\n\n\n\nTéléchargez le programme - compétitions sportives
  du week-end\n
ATTACH;FMTTYPE=image/jpeg:https://www.ville-thonon.fr/app/uploads/2024/11/
 6132_497_Agenda-Sport-Handball.jpg
CATEGORIES:Sport
END:VEVENT
BEGIN:VEVENT
UID:0-461@ville-thonon.fr
DTSTART;VALUE=DATE:20241115
DTEND;VALUE=DATE:19700102
DTSTAMP:20241112T135217Z
URL:https://www.ville-thonon.fr/evenements/agenda-sportif-du-week-end/
SUMMARY:Agenda sportif du week-end
DESCRIPTION:\nDécouvrez les compétitions sportives à Thonon prévues pou
 r ce week-end.\n\n\n\nTéléchargez le programme - compétitions sportives
  du week-end\n
ATTACH;FMTTYPE=image/jpeg:https://www.ville-thonon.fr/app/uploads/2024/11/
 6132_497_Agenda-Sport-Handball.jpg
CATEGORIES:Sport
END:VEVENT
BEGIN:VEVENT
UID:0-461@ville-thonon.fr
DTSTART;VALUE=DATE:20241115
DTEND;VALUE=DATE:19700102
DTSTAMP:20241112T135217Z
URL:https://www.ville-thonon.fr/evenements/agenda-sportif-du-week-end/
SUMMARY:Agenda sportif du week-end
DESCRIPTION:\nDécouvrez les compétitions sportives à Thonon prévues pou
 r ce week-end.\n\n\n\nTéléchargez le programme - compétitions sportives
  du week-end\n
ATTACH;FMTTYPE=image/jpeg:https://www.ville-thonon.fr/app/uploads/2024/11/
 6132_497_Agenda-Sport-Handball.jpg
CATEGORIES:Sport
END:VEVENT
BEGIN:VEVENT
UID:0-461@ville-thonon.fr
DTSTART;VALUE=DATE:20241115
DTEND;VALUE=DATE:19700102
DTSTAMP:20241112T135217Z
URL:https://www.ville-thonon.fr/evenements/agenda-sportif-du-week-end/
SUMMARY:Agenda sportif du week-end
DESCRIPTION:\nDécouvrez les compétitions sportives à Thonon prévues pou
 r ce week-end.\n\n\n\nTéléchargez le programme - compétitions sportives
  du week-end\n
ATTACH;FMTTYPE=image/jpeg:https://www.ville-thonon.fr/app/uploads/2024/11/
 6132_497_Agenda-Sport-Handball.jpg
CATEGORIES:Sport
END:VEVENT
BEGIN:VEVENT
UID:0-461@ville-thonon.fr
DTSTART;VALUE=DATE:20241115
DTEND;VALUE=DATE:19700102
DTSTAMP:20241112T135217Z
URL:https://www.ville-thonon.fr/evenements/agenda-sportif-du-week-end/
SUMMARY:Agenda sportif du week-end
DESCRIPTION:\nDécouvrez les compétitions sportives à Thonon prévues pou
 r ce week-end.\n\n\n\nTéléchargez le programme - compétitions sportives
  du week-end\n
ATTACH;FMTTYPE=image/jpeg:https://www.ville-thonon.fr/app/uploads/2024/11/
 6132_497_Agenda-Sport-Handball.jpg
CATEGORIES:Sport
END:VEVENT
BEGIN:VEVENT
UID:0-461@ville-thonon.fr
DTSTART;VALUE=DATE:20241115
DTEND;VALUE=DATE:19700102
DTSTAMP:20241112T135217Z
URL:https://www.ville-thonon.fr/evenements/agenda-sportif-du-week-end/
SUMMARY:Agenda sportif du week-end
DESCRIPTION:\nDécouvrez les compétitions sportives à Thonon prévues pou
 r ce week-end.\n\n\n\nTéléchargez le programme - compétitions sportives
  du week-end\n
ATTACH;FMTTYPE=image/jpeg:https://www.ville-thonon.fr/app/uploads/2024/11/
 6132_497_Agenda-Sport-Handball.jpg
CATEGORIES:Sport
END:VEVENT
BEGIN:VEVENT
UID:0-461@ville-thonon.fr
DTSTART;VALUE=DATE:20241115
DTEND;VALUE=DATE:19700102
DTSTAMP:20241112T135217Z
URL:https://www.ville-thonon.fr/evenements/agenda-sportif-du-week-end/
SUMMARY:Agenda sportif du week-end
DESCRIPTION:\nDécouvrez les compétitions sportives à Thonon prévues pou
 r ce week-end.\n\n\n\nTéléchargez le programme - compétitions sportives
  du week-end\n
ATTACH;FMTTYPE=image/jpeg:https://www.ville-thonon.fr/app/uploads/2024/11/
 6132_497_Agenda-Sport-Handball.jpg
CATEGORIES:Sport
END:VEVENT
BEGIN:VEVENT
UID:0-461@ville-thonon.fr
DTSTART;VALUE=DATE:20241115
DTEND;VALUE=DATE:19700102
DTSTAMP:20241112T135217Z
URL:https://www.ville-thonon.fr/evenements/agenda-sportif-du-week-end/
SUMMARY:Agenda sportif du week-end
DESCRIPTION:\nDécouvrez les compétitions sportives à Thonon prévues pou
 r ce week-end.\n\n\n\nTéléchargez le programme - compétitions sportives
  du week-end\n
ATTACH;FMTTYPE=image/jpeg:https://www.ville-thonon.fr/app/uploads/2024/11/
 6132_497_Agenda-Sport-Handball.jpg
CATEGORIES:Sport
END:VEVENT
BEGIN:VEVENT
UID:0-461@ville-thonon.fr
DTSTART;VALUE=DATE:20241115
DTEND;VALUE=DATE:19700102
DTSTAMP:20241112T135217Z
URL:https://www.ville-thonon.fr/evenements/agenda-sportif-du-week-end/
SUMMARY:Agenda sportif du week-end
DESCRIPTION:\nDécouvrez les compétitions sportives à Thonon prévues pou
 r ce week-end.\n\n\n\nTéléchargez le programme - compétitions sportives
  du week-end\n
ATTACH;FMTTYPE=image/jpeg:https://www.ville-thonon.fr/app/uploads/2024/11/
 6132_497_Agenda-Sport-Handball.jpg
CATEGORIES:Sport
END:VEVENT
BEGIN:VEVENT
UID:0-461@ville-thonon.fr
DTSTART;VALUE=DATE:20241115
DTEND;VALUE=DATE:19700102
DTSTAMP:20241112T135217Z
URL:https://www.ville-thonon.fr/evenements/agenda-sportif-du-week-end/
SUMMARY:Agenda sportif du week-end
DESCRIPTION:\nDécouvrez les compétitions sportives à Thonon prévues pou
 r ce week-end.\n\n\n\nTéléchargez le programme - compétitions sportives
  du week-end\n
ATTACH;FMTTYPE=image/jpeg:https://www.ville-thonon.fr/app/uploads/2024/11/
 6132_497_Agenda-Sport-Handball.jpg
CATEGORIES:Sport
END:VEVENT
BEGIN:VEVENT
UID:0-461@ville-thonon.fr
DTSTART;VALUE=DATE:20241115
DTEND;VALUE=DATE:19700102
DTSTAMP:20241112T135217Z
URL:https://www.ville-thonon.fr/evenements/agenda-sportif-du-week-end/
SUMMARY:Agenda sportif du week-end
DESCRIPTION:\nDécouvrez les compétitions sportives à Thonon prévues pou
 r ce week-end.\n\n\n\nTéléchargez le programme - compétitions sportives
  du week-end\n
ATTACH;FMTTYPE=image/jpeg:https://www.ville-thonon.fr/app/uploads/2024/11/
 6132_497_Agenda-Sport-Handball.jpg
CATEGORIES:Sport
END:VEVENT
BEGIN:VEVENT
UID:0-461@ville-thonon.fr
DTSTART;VALUE=DATE:20241115
DTEND;VALUE=DATE:19700102
DTSTAMP:20241112T135217Z
URL:https://www.ville-thonon.fr/evenements/agenda-sportif-du-week-end/
SUMMARY:Agenda sportif du week-end
DESCRIPTION:\nDécouvrez les compétitions sportives à Thonon prévues pou
 r ce week-end.\n\n\n\nTéléchargez le programme - compétitions sportives
  du week-end\n
ATTACH;FMTTYPE=image/jpeg:https://www.ville-thonon.fr/app/uploads/2024/11/
 6132_497_Agenda-Sport-Handball.jpg
CATEGORIES:Sport
END:VEVENT
BEGIN:VEVENT
UID:0-461@ville-thonon.fr
DTSTART;VALUE=DATE:20241115
DTEND;VALUE=DATE:19700102
DTSTAMP:20241112T135217Z
URL:https://www.ville-thonon.fr/evenements/agenda-sportif-du-week-end/
SUMMARY:Agenda sportif du week-end
DESCRIPTION:\nDécouvrez les compétitions sportives à Thonon prévues pou
 r ce week-end.\n\n\n\nTéléchargez le programme - compétitions sportives
  du week-end\n
ATTACH;FMTTYPE=image/jpeg:https://www.ville-thonon.fr/app/uploads/2024/11/
 6132_497_Agenda-Sport-Handball.jpg
CATEGORIES:Sport
END:VEVENT
BEGIN:VEVENT
UID:0-461@ville-thonon.fr
DTSTART;VALUE=DATE:20241115
DTEND;VALUE=DATE:19700102
DTSTAMP:20241112T135217Z
URL:https://www.ville-thonon.fr/evenements/agenda-sportif-du-week-end/
SUMMARY:Agenda sportif du week-end
DESCRIPTION:\nDécouvrez les compétitions sportives à Thonon prévues pou
 r ce week-end.\n\n\n\nTéléchargez le programme - compétitions sportives
  du week-end\n
ATTACH;FMTTYPE=image/jpeg:https://www.ville-thonon.fr/app/uploads/2024/11/
 6132_497_Agenda-Sport-Handball.jpg
CATEGORIES:Sport
END:VEVENT
BEGIN:VEVENT
UID:0-461@ville-thonon.fr
DTSTART;VALUE=DATE:20241115
DTEND;VALUE=DATE:19700102
DTSTAMP:20241112T135217Z
URL:https://www.ville-thonon.fr/evenements/agenda-sportif-du-week-end/
SUMMARY:Agenda sportif du week-end
DESCRIPTION:\nDécouvrez les compétitions sportives à Thonon prévues pou
 r ce week-end.\n\n\n\nTéléchargez le programme - compétitions sportives
  du week-end\n
ATTACH;FMTTYPE=image/jpeg:https://www.ville-thonon.fr/app/uploads/2024/11/
 6132_497_Agenda-Sport-Handball.jpg
CATEGORIES:Sport
END:VEVENT
BEGIN:VEVENT
UID:0-461@ville-thonon.fr
DTSTART;VALUE=DATE:20241115
DTEND;VALUE=DATE:19700102
DTSTAMP:20241112T135217Z
URL:https://www.ville-thonon.fr/evenements/agenda-sportif-du-week-end/
SUMMARY:Agenda sportif du week-end
DESCRIPTION:\nDécouvrez les compétitions sportives à Thonon prévues pou
 r ce week-end.\n\n\n\nTéléchargez le programme - compétitions sportives
  du week-end\n
ATTACH;FMTTYPE=image/jpeg:https://www.ville-thonon.fr/app/uploads/2024/11/
 6132_497_Agenda-Sport-Handball.jpg
CATEGORIES:Sport
END:VEVENT
BEGIN:VEVENT
UID:0-461@ville-thonon.fr
DTSTART;VALUE=DATE:20241115
DTEND;VALUE=DATE:19700102
DTSTAMP:20241112T135217Z
URL:https://www.ville-thonon.fr/evenements/agenda-sportif-du-week-end/
SUMMARY:Agenda sportif du week-end
DESCRIPTION:\nDécouvrez les compétitions sportives à Thonon prévues pou
 r ce week-end.\n\n\n\nTéléchargez le programme - compétitions sportives
  du week-end\n
ATTACH;FMTTYPE=image/jpeg:https://www.ville-thonon.fr/app/uploads/2024/11/
 6132_497_Agenda-Sport-Handball.jpg
CATEGORIES:Sport
END:VEVENT
BEGIN:VEVENT
UID:0-461@ville-thonon.fr
DTSTART;VALUE=DATE:20241115
DTEND;VALUE=DATE:19700102
DTSTAMP:20241112T135217Z
URL:https://www.ville-thonon.fr/evenements/agenda-sportif-du-week-end/
SUMMARY:Agenda sportif du week-end
DESCRIPTION:\nDécouvrez les compétitions sportives à Thonon prévues pou
 r ce week-end.\n\n\n\nTéléchargez le programme - compétitions sportives
  du week-end\n
ATTACH;FMTTYPE=image/jpeg:https://www.ville-thonon.fr/app/uploads/2024/11/
 6132_497_Agenda-Sport-Handball.jpg
CATEGORIES:Sport
END:VEVENT
BEGIN:VEVENT
UID:0-461@ville-thonon.fr
DTSTART;VALUE=DATE:20241115
DTEND;VALUE=DATE:19700102
DTSTAMP:20241112T135217Z
URL:https://www.ville-thonon.fr/evenements/agenda-sportif-du-week-end/
SUMMARY:Agenda sportif du week-end
DESCRIPTION:\nDécouvrez les compétitions sportives à Thonon prévues pou
 r ce week-end.\n\n\n\nTéléchargez le programme - compétitions sportives
  du week-end\n
ATTACH;FMTTYPE=image/jpeg:https://www.ville-thonon.fr/app/uploads/2024/11/
 6132_497_Agenda-Sport-Handball.jpg
CATEGORIES:Sport
END:VEVENT
BEGIN:VEVENT
UID:0-461@ville-thonon.fr
DTSTART;VALUE=DATE:20241115
DTEND;VALUE=DATE:19700102
DTSTAMP:20241112T135217Z
URL:https://www.ville-thonon.fr/evenements/agenda-sportif-du-week-end/
SUMMARY:Agenda sportif du week-end
DESCRIPTION:\nDécouvrez les compétitions sportives à Thonon prévues pou
 r ce week-end.\n\n\n\nTéléchargez le programme - compétitions sportives
  du week-end\n
ATTACH;FMTTYPE=image/jpeg:https://www.ville-thonon.fr/app/uploads/2024/11/
 6132_497_Agenda-Sport-Handball.jpg
CATEGORIES:Sport
END:VEVENT
BEGIN:VEVENT
UID:0-461@ville-thonon.fr
DTSTART;VALUE=DATE:20241115
DTEND;VALUE=DATE:19700102
DTSTAMP:20241112T135217Z
URL:https://www.ville-thonon.fr/evenements/agenda-sportif-du-week-end/
SUMMARY:Agenda sportif du week-end
DESCRIPTION:\nDécouvrez les compétitions sportives à Thonon prévues pou
 r ce week-end.\n\n\n\nTéléchargez le programme - compétitions sportives
  du week-end\n
ATTACH;FMTTYPE=image/jpeg:https://www.ville-thonon.fr/app/uploads/2024/11/
 6132_497_Agenda-Sport-Handball.jpg
CATEGORIES:Sport
END:VEVENT
BEGIN:VEVENT
UID:0-461@ville-thonon.fr
DTSTART;VALUE=DATE:20241115
DTEND;VALUE=DATE:19700102
DTSTAMP:20241112T135217Z
URL:https://www.ville-thonon.fr/evenements/agenda-sportif-du-week-end/
SUMMARY:Agenda sportif du week-end
DESCRIPTION:\nDécouvrez les compétitions sportives à Thonon prévues pou
 r ce week-end.\n\n\n\nTéléchargez le programme - compétitions sportives
  du week-end\n
ATTACH;FMTTYPE=image/jpeg:https://www.ville-thonon.fr/app/uploads/2024/11/
 6132_497_Agenda-Sport-Handball.jpg
CATEGORIES:Sport
END:VEVENT
BEGIN:VEVENT
UID:0-461@ville-thonon.fr
DTSTART;VALUE=DATE:20241115
DTEND;VALUE=DATE:19700102
DTSTAMP:20241112T135217Z
URL:https://www.ville-thonon.fr/evenements/agenda-sportif-du-week-end/
SUMMARY:Agenda sportif du week-end
DESCRIPTION:\nDécouvrez les compétitions sportives à Thonon prévues pou
 r ce week-end.\n\n\n\nTéléchargez le programme - compétitions sportives
  du week-end\n
ATTACH;FMTTYPE=image/jpeg:https://www.ville-thonon.fr/app/uploads/2024/11/
 6132_497_Agenda-Sport-Handball.jpg
CATEGORIES:Sport
END:VEVENT
END:VCALENDAR